BEGIN:VCALENDAR
VERSION:2.0
PRODID:-//Oregon State Federation - ECPv6.15.20//NONSGML v1.0//EN
CALSCALE:GREGORIAN
METHOD:PUBLISH
X-WR-CALNAME:Oregon State Federation
X-ORIGINAL-URL:https://oregongardenclubs.org
X-WR-CALDESC:Events for Oregon State Federation
REFRESH-INTERVAL;VALUE=DURATION:PT1H
X-Robots-Tag:noindex
X-PUBLISHED-TTL:PT1H
BEGIN:VTIMEZONE
TZID:America/Los_Angeles
BEGIN:DAYLIGHT
TZOFFSETFROM:-0800
TZOFFSETTO:-0700
TZNAME:PDT
DTSTART:20250309T100000
END:DAYLIGHT
BEGIN:STANDARD
TZOFFSETFROM:-0700
TZOFFSETTO:-0800
TZNAME:PST
DTSTART:20251102T090000
END:STANDARD
BEGIN:DAYLIGHT
TZOFFSETFROM:-0800
TZOFFSETTO:-0700
TZNAME:PDT
DTSTART:20260308T100000
END:DAYLIGHT
BEGIN:STANDARD
TZOFFSETFROM:-0700
TZOFFSETTO:-0800
TZNAME:PST
DTSTART:20261101T090000
END:STANDARD
BEGIN:DAYLIGHT
TZOFFSETFROM:-0800
TZOFFSETTO:-0700
TZNAME:PDT
DTSTART:20270314T100000
END:DAYLIGHT
BEGIN:STANDARD
TZOFFSETFROM:-0700
TZOFFSETTO:-0800
TZNAME:PST
DTSTART:20271107T090000
END:STANDARD
END:VTIMEZONE
BEGIN:VEVENT
DTSTART;TZID=America/Los_Angeles:20260420T100000
DTEND;TZID=America/Los_Angeles:20260420T110000
DTSTAMP:20260420T014429
CREATED:20260325T182623Z
LAST-MODIFIED:20260325T182623Z
UID:6877-1776679200-1776682800@oregongardenclubs.org
SUMMARY:OSFGC District Directors Zoom Meeting
DESCRIPTION:All OSFGC District Directors\, please join us for our quarterly District Directors meeting on Monday\, April 20th\, at 10:00am. \nPresident Becky Cook will host. \nBe ready to share any concerns or successes from your District\, and be mindful that there are others who would like the opportunity to speak. \nZoom link will be sent out prior to the meeting\, please check your email. \nIf you do not receive an email with the Zoom meeting link\, please contact OSFGCZoom@gmail.com to see if email address corrections need to be made.
URL:https://oregongardenclubs.org/event/osfgc-district-directors-zoom-meeting/
LOCATION:OR
END:VEVENT
END:VCALENDAR