BEGIN:VCALENDAR
VERSION:2.0
PRODID:-//Oregon State Federation - ECPv6.15.20//NONSGML v1.0//EN
CALSCALE:GREGORIAN
METHOD:PUBLISH
X-WR-CALNAME:Oregon State Federation
X-ORIGINAL-URL:https://oregongardenclubs.org
X-WR-CALDESC:Events for Oregon State Federation
REFRESH-INTERVAL;VALUE=DURATION:PT1H
X-Robots-Tag:noindex
X-PUBLISHED-TTL:PT1H
BEGIN:VTIMEZONE
TZID:America/Los_Angeles
BEGIN:DAYLIGHT
TZOFFSETFROM:-0800
TZOFFSETTO:-0700
TZNAME:PDT
DTSTART:20250309T100000
END:DAYLIGHT
BEGIN:STANDARD
TZOFFSETFROM:-0700
TZOFFSETTO:-0800
TZNAME:PST
DTSTART:20251102T090000
END:STANDARD
BEGIN:DAYLIGHT
TZOFFSETFROM:-0800
TZOFFSETTO:-0700
TZNAME:PDT
DTSTART:20260308T100000
END:DAYLIGHT
BEGIN:STANDARD
TZOFFSETFROM:-0700
TZOFFSETTO:-0800
TZNAME:PST
DTSTART:20261101T090000
END:STANDARD
BEGIN:DAYLIGHT
TZOFFSETFROM:-0800
TZOFFSETTO:-0700
TZNAME:PDT
DTSTART:20270314T100000
END:DAYLIGHT
BEGIN:STANDARD
TZOFFSETFROM:-0700
TZOFFSETTO:-0800
TZNAME:PST
DTSTART:20271107T090000
END:STANDARD
END:VTIMEZONE
BEGIN:VEVENT
DTSTART;TZID=America/Los_Angeles:20260421T100000
DTEND;TZID=America/Los_Angeles:20260421T110000
DTSTAMP:20260423T024435
CREATED:20260325T183120Z
LAST-MODIFIED:20260325T183120Z
UID:6879-1776765600-1776769200@oregongardenclubs.org
SUMMARY:OSFGC Club Presidents Zoom Meeting
DESCRIPTION:All OSFGC Club Presidents\, please join us for our quarterly Zoom meeting on Tuesday\, April 21\, at 10:00am on Zoom. \nPresident Becky Cook will preside. \nBe ready to share any concerns\, questions or successes from your club\, and be mindful that there are others who would like to speak as well. \nAll club Presidents will receive an email with the Zoom meeting link prior to the meeting. \nIf you do not receive an email\, please contact OSFGCZoom@gmail.com to see if there are any email address corrections to be made. \nHope to see you there!
URL:https://oregongardenclubs.org/event/osfgc-club-presidents-zoom-meeting/
LOCATION:OR
END:VEVENT
END:VCALENDAR