BEGIN:VCALENDAR
VERSION:2.0
PRODID:-//Oregon State Federation - ECPv6.15.20//NONSGML v1.0//EN
CALSCALE:GREGORIAN
METHOD:PUBLISH
X-ORIGINAL-URL:https://oregongardenclubs.org
X-WR-CALDESC:Events for Oregon State Federation
REFRESH-INTERVAL;VALUE=DURATION:PT1H
X-Robots-Tag:noindex
X-PUBLISHED-TTL:PT1H
BEGIN:VTIMEZONE
TZID:America/Los_Angeles
BEGIN:DAYLIGHT
TZOFFSETFROM:-0800
TZOFFSETTO:-0700
TZNAME:PDT
DTSTART:20250309T100000
END:DAYLIGHT
BEGIN:STANDARD
TZOFFSETFROM:-0700
TZOFFSETTO:-0800
TZNAME:PST
DTSTART:20251102T090000
END:STANDARD
BEGIN:DAYLIGHT
TZOFFSETFROM:-0800
TZOFFSETTO:-0700
TZNAME:PDT
DTSTART:20260308T100000
END:DAYLIGHT
BEGIN:STANDARD
TZOFFSETFROM:-0700
TZOFFSETTO:-0800
TZNAME:PST
DTSTART:20261101T090000
END:STANDARD
BEGIN:DAYLIGHT
TZOFFSETFROM:-0800
TZOFFSETTO:-0700
TZNAME:PDT
DTSTART:20270314T100000
END:DAYLIGHT
BEGIN:STANDARD
TZOFFSETFROM:-0700
TZOFFSETTO:-0800
TZNAME:PST
DTSTART:20271107T090000
END:STANDARD
END:VTIMEZONE
BEGIN:VEVENT
DTSTART;TZID=America/Los_Angeles:20260524T120000
DTEND;TZID=America/Los_Angeles:20260524T130000
DTSTAMP:20260425T090115
CREATED:20260223T200011Z
LAST-MODIFIED:20260422T175543Z
UID:6785-1779624000-1779627600@oregongardenclubs.org
SUMMARY:Gold Marker Installation at Willamette National Cemetery
DESCRIPTION:Please mark your calendars to attend an installation ceremony for a new Gold Star Marker at the Willamette National Cemetery.\nMeet at the front of the Administration building at Noon on May 24\, 2026. \nNote: Parking at this event is extremely limited. Please carpool and kindly consider leaving closer parking areas free for people with mobility issues. \nSee you there!
URL:https://oregongardenclubs.org/event/gold-marker-installation-at-willamette-national-cemetery/
LOCATION:Willamette National Cemetary\, 11800 SE Mount Scott Blvd\, Portland\, OR\, 97086
ORGANIZER;CN="Jane Sercombe":MAILTO:jane.sercombe@gmail.com
END:VEVENT
BEGIN:VEVENT
DTSTART;TZID=America/Los_Angeles:20260627T090000
DTEND;TZID=America/Los_Angeles:20260627T170000
DTSTAMP:20260425T090115
CREATED:20260325T184111Z
LAST-MODIFIED:20260424T174229Z
UID:6882-1782550800-1782579600@oregongardenclubs.org
SUMMARY:OSFGC Annual Convention
DESCRIPTION:Our annual Convention this year is a one day\, mini Convention on Saturday\, June 27th\, from 9:00am until 5:00pm. \nClick for more details on: \nThe proposed changes to the By-Laws\nFlower Show\nSchedule – More information coming soon – No link available at this time\nLocation: The Shedd Institute\, 285 E Broadway\, Eugene\, OR 97401 \nAll OSFGC officers\, members and their guests are encouraged to attend. \nRegistration begins at 9:00am\, and there will be meetings\, workshops\, lunch and speakers. \nStay tuned for more updates. Hope to see you there!
URL:https://oregongardenclubs.org/event/osfgc-annual-convention/
LOCATION:The Shedd Institute\, 285 East Broadway\, Eugene\, OR\, 97401
END:VEVENT
END:VCALENDAR