BEGIN:VCALENDAR
VERSION:2.0
PRODID:-//Oregon State Federation - ECPv6.15.20//NONSGML v1.0//EN
CALSCALE:GREGORIAN
METHOD:PUBLISH
X-ORIGINAL-URL:https://oregongardenclubs.org
X-WR-CALDESC:Events for Oregon State Federation
REFRESH-INTERVAL;VALUE=DURATION:PT1H
X-Robots-Tag:noindex
X-PUBLISHED-TTL:PT1H
BEGIN:VTIMEZONE
TZID:America/Los_Angeles
BEGIN:DAYLIGHT
TZOFFSETFROM:-0800
TZOFFSETTO:-0700
TZNAME:PDT
DTSTART:20250309T100000
END:DAYLIGHT
BEGIN:STANDARD
TZOFFSETFROM:-0700
TZOFFSETTO:-0800
TZNAME:PST
DTSTART:20251102T090000
END:STANDARD
BEGIN:DAYLIGHT
TZOFFSETFROM:-0800
TZOFFSETTO:-0700
TZNAME:PDT
DTSTART:20260308T100000
END:DAYLIGHT
BEGIN:STANDARD
TZOFFSETFROM:-0700
TZOFFSETTO:-0800
TZNAME:PST
DTSTART:20261101T090000
END:STANDARD
BEGIN:DAYLIGHT
TZOFFSETFROM:-0800
TZOFFSETTO:-0700
TZNAME:PDT
DTSTART:20270314T100000
END:DAYLIGHT
BEGIN:STANDARD
TZOFFSETFROM:-0700
TZOFFSETTO:-0800
TZNAME:PST
DTSTART:20271107T090000
END:STANDARD
END:VTIMEZONE
BEGIN:VEVENT
DTSTART;TZID=America/Los_Angeles:20260309T140000
DTEND;TZID=America/Los_Angeles:20260309T150000
DTSTAMP:20260420T001748
CREATED:20260224T233751Z
LAST-MODIFIED:20260225T003521Z
UID:6796-1773064800-1773068400@oregongardenclubs.org
SUMMARY:Firewise Communities - Pacific Region Webinaires
DESCRIPTION:‘Firewise Communities’ webinaire series \nMarch 9\, 2026 Zoom session. \nFill your name and email in the form to receive your invitation to join. \nPresented by Pacific Region Garden Club.
URL:https://oregongardenclubs.org/event/firewise-communities-pacific-region-webinaires/
LOCATION:Zoom
END:VEVENT
BEGIN:VEVENT
DTSTART;TZID=America/Los_Angeles:20260321T080000
DTEND;TZID=America/Los_Angeles:20260321T160000
DTSTAMP:20260420T001748
CREATED:20260118T230840Z
LAST-MODIFIED:20260118T230840Z
UID:6726-1774080000-1774108800@oregongardenclubs.org
SUMMARY:Whidbey Gardening Workshop
DESCRIPTION:Early registration starts January 30! \nWhether you’re new to gardening\, seasoned\nhorticulturist\, or want to learn the latest in sustainable\ngardening practices\, you’ll enjoy attending. \n37th Whidbey Gardening Workshop \nSaturday\, March 21\, 2026\n8 a.m. – 4 p.m.\nOak Harbor High School\, Oak Harbor\, WA\nIn-person classes – Hands-on learning – Demos\nSomething for every gardener\nSustainable techniques for growing local food \nThis year’s theme focuses on improving individual and community health and wellbeing by applying sustainable techniques for growing your own fruits\, vegetables\, and herbs\, and transitioning to locally sourced food. \nWe are also offering our usual variety of classes on garden maintenance and design\, ornamental plants\, gardening in a time of climate change\, native plants\, microclimates\, and much more! \nHalf the classes offered this year are new\, including mixing veggies into perennial gardens\, roots and rare fruits\, winter sowing and propagation\, hügelkultur\, exploring a windswept forest\, futurescaping\, resilient yards and ecosystems. \nThere will also be Make-n-Take classes\, bookstore and book signing\, free gardening demonstrations\, and opportunity to speak with Master Gardeners. The Marketplace will feature a range of plants\, trees\, starts\, dahlia tubers\, handmade goodies and garden art\, gardening tools\, and local non-profit organizations. \nSave the Date\nRegistration Opens January 30\, 2026 \nEarly Bird rates January 30 – February 8\, 2026 \nLearn more WhidbeyGardening.org \nFollow us on Facebook www.facebook.com/ICMGEduGarden/ \nFlyer
URL:https://oregongardenclubs.org/event/whidbey-gardening-workshop/
LOCATION:Oak Harbor High School\, 1 Wildcat Way\, Oak Harbor\, WA\, 98277
END:VEVENT
BEGIN:VEVENT
DTSTART;TZID=America/Los_Angeles:20260328T100000
DTEND;TZID=America/Los_Angeles:20260328T150000
DTSTAMP:20260420T001748
CREATED:20260325T181746Z
LAST-MODIFIED:20260325T183221Z
UID:6874-1774692000-1774710000@oregongardenclubs.org
SUMMARY:OSFGC State Board Meeting
DESCRIPTION:Please join us at Westminster Presbyterian Church\, 777 Coburg Rd\, Eugene\, OR 97401. \nMeeting check-in begins at 10:00am\, and the meeting begins at 10:30am. \nPresident Becky Cook will be presiding. \nPlease bring a lunch\, as there will be a short break at noon for everyone to eat. \nSnacks and water will be provided. \nHope to see you there!
URL:https://oregongardenclubs.org/event/osfgc-state-board-meeting-3-28-26/
LOCATION:Westminster Presbyterian Church\, 777 Coburg Rd\, Eugene\, OR\, 97401
END:VEVENT
END:VCALENDAR